BEGIN:VCALENDAR
VERSION:2.0
PRODID:-//Plone.org//NONSGML plone.app.event//EN
X-WR-TIMEZONE:Europe/London
BEGIN:VEVENT
SUMMARY:UWE's CfM & Wordplay Magazine present Amplify
DTSTART;VALUE=DATE-TIME:20190315T160000Z
DTEND;VALUE=DATE-TIME:20190316T010000Z
DTSTAMP;VALUE=DATE-TIME:20260422T023001Z
UID:8d7875ebdb2e4f85a76a1a1479446b09@localhost:5004
CATEGORIES:whats-on,trinity-events-archive,2019,
CONTACT:01179351200\, info@3ca.org.uk\, https://www.facebook.com/events/69
 1581357877770/
CREATED;VALUE=DATE-TIME:20221214T201141Z
DESCRIPTION:live music\, workshops\, live art\, talks & More
LAST-MODIFIED;VALUE=DATE-TIME:20221214T201141Z
URL:https://archive.trinitybristol.org.uk/events/-amplify-2
END:VEVENT
END:VCALENDAR
