BEGIN:VCALENDAR
VERSION:2.0
PRODID:-//Plone.org//NONSGML plone.app.event//EN
X-WR-TIMEZONE:Europe/London
BEGIN:VEVENT
SUMMARY:1625ip Fundraiser
DTSTART;VALUE=DATE-TIME:20140328T190000Z
DTEND;VALUE=DATE-TIME:20140328T230000Z
DTSTAMP;VALUE=DATE-TIME:20260422T023102Z
UID:33ed0fd3f98e42c2b0b74038bf28b3d0@localhost:5004
CATEGORIES:whats-on,trinity-events-archive,2014,
CONTACT:http://www.1625ip.co.uk
CREATED;VALUE=DATE-TIME:20221214T205825Z
DESCRIPTION:Feat. Guy Malkerson\, Lonely Tourist\, Mark McDowell & The Leg
 endary Barry
LAST-MODIFIED;VALUE=DATE-TIME:20221214T205825Z
URL:https://archive.trinitybristol.org.uk/events/1625ip-fundraiser
END:VEVENT
END:VCALENDAR
