BEGIN:VCALENDAR
VERSION:2.0
PRODID:-//Plone.org//NONSGML plone.app.event//EN
X-WR-TIMEZONE:Europe/London
BEGIN:VEVENT
SUMMARY:1985 Music
DTSTART;VALUE=DATE-TIME:20200207T220000Z
DTEND;VALUE=DATE-TIME:20200208T040000Z
DTSTAMP;VALUE=DATE-TIME:20260422T023127Z
UID:28d26ee0d29a4b948172bab3a2b2c3a8@localhost:5004
CATEGORIES:music,whats-on,trinity-events-archive,2020
CONTACT:01179351200\, info@trinitybristol.org.uk\, https://www.facebook.co
 m/events/813660525729730/
CREATED;VALUE=DATE-TIME:20221214T201028Z
DESCRIPTION:1985 Music is a platform for forward thinking electronic music
  basing its roots in 170 / 85 BPM
LAST-MODIFIED;VALUE=DATE-TIME:20221214T201028Z
URL:https://archive.trinitybristol.org.uk/events/1985-music-0
END:VEVENT
END:VCALENDAR
