BEGIN:VCALENDAR
VERSION:2.0
PRODID:-//Plone.org//NONSGML plone.app.event//EN
X-WR-TIMEZONE:Europe/London
BEGIN:VEVENT
SUMMARY:1985 Music
DTSTART;VALUE=DATE-TIME:20190323T220000Z
DTEND;VALUE=DATE-TIME:20190324T040000Z
DTSTAMP;VALUE=DATE-TIME:20260422T023233Z
UID:433c770b21314b0da6acf38ade432de2@localhost:5004
CATEGORIES:music,whats-on,trinity-events-archive,2019
CONTACT:0117 935 1200\, info@3ca.org.uk\, https://www.facebook.com/events/
 598059077301866/
CREATED;VALUE=DATE-TIME:20221214T201202Z
DESCRIPTION:A platform for forward thinking electronic music
LAST-MODIFIED;VALUE=DATE-TIME:20221214T201203Z
URL:https://archive.trinitybristol.org.uk/events/1985-music-1
END:VEVENT
END:VCALENDAR
