BEGIN:VCALENDAR
VERSION:2.0
PRODID:-//Plone.org//NONSGML plone.app.event//EN
X-WR-TIMEZONE:Europe/London
BEGIN:VEVENT
SUMMARY:1985 Music
DTSTART;VALUE=DATE-TIME:20181117T220000Z
DTEND;VALUE=DATE-TIME:20181118T040000Z
DTSTAMP;VALUE=DATE-TIME:20260422T023127Z
UID:07640286ad5f437f93d65e224d6fec37@localhost:5004
CATEGORIES:music,whats-on,trinity-events-archive,2018
CONTACT:0117 935 1200\, info@3ca.org.uk\, https://www.facebook.com/events/
 336705677073784/
CREATED;VALUE=DATE-TIME:20221214T203532Z
LAST-MODIFIED;VALUE=DATE-TIME:20221214T203533Z
URL:https://archive.trinitybristol.org.uk/events/1985-music-2
END:VEVENT
END:VCALENDAR
