BEGIN:VCALENDAR
VERSION:2.0
PRODID:-//Plone.org//NONSGML plone.app.event//EN
X-WR-TIMEZONE:Europe/London
BEGIN:VEVENT
SUMMARY:1985 Music
DTSTART;VALUE=DATE-TIME:20211203T220000Z
DTEND;VALUE=DATE-TIME:20211204T050000Z
DTSTAMP;VALUE=DATE-TIME:20260422T023102Z
UID:94b603df233e4258a3958a67d73b8302@localhost:5004
CATEGORIES:music,whats-on,2021
CONTACT:0117 935 1200\, info@trinitybristol.org.uk\, https://www.facebook.
 com/events/4742906585728099?acontext=%7B%22event_action_history%22%3A[%7B%
 22surface%22%3A%22page%22%7D]%7D
CREATED;VALUE=DATE-TIME:20221214T200534Z
DESCRIPTION:Forward-thinking electronic music basing its roots in 170 / 85
  BPM
LAST-MODIFIED;VALUE=DATE-TIME:20221214T200534Z
URL:https://archive.trinitybristol.org.uk/events/1985-music
END:VEVENT
END:VCALENDAR
