BEGIN:VCALENDAR
VERSION:2.0
PRODID:-//Plone.org//NONSGML plone.app.event//EN
X-WR-TIMEZONE:Europe/London
BEGIN:VEVENT
SUMMARY:Outdoor Cinema: Under The Skin
DTSTART;VALUE=DATE-TIME:20180916T190000Z
DTEND;VALUE=DATE-TIME:20180916T230000Z
DTSTAMP;VALUE=DATE-TIME:20260424T131302Z
UID:9265eb0854394e9ba065f70d3ccccc49@localhost:5004
CATEGORIES:film,whats-on,trinity-events-archive,2018
CONTACT:0117 935 1200\, info@3ca.org.uk
CREATED;VALUE=DATE-TIME:20221214T203436Z
DESCRIPTION:A Fairy Tale for Troubled Times
LAST-MODIFIED;VALUE=DATE-TIME:20221214T203436Z
URL:https://archive.trinitybristol.org.uk/events/Under-The-Skin
END:VEVENT
END:VCALENDAR
