BEGIN:VCALENDAR
VERSION:2.0
PRODID:-//Plone.org//NONSGML plone.app.event//EN
X-WR-TIMEZONE:Europe/London
BEGIN:VEVENT
SUMMARY:EBC023 Workshop
DTSTART;VALUE=DATE-TIME:20191207T140000Z
DTEND;VALUE=DATE-TIME:20191207T150000Z
DTSTAMP;VALUE=DATE-TIME:20260424T210940Z
UID:44f6b5033aa946ddb429fc4aa33b85d9@localhost:5004
CATEGORIES:whats-on,trinity-events-archive,2019,
CONTACT:http://www.eastbristolcontemporary.com/
CREATED;VALUE=DATE-TIME:20221214T203421Z
DESCRIPTION:Ashley Holmes open deck
LAST-MODIFIED;VALUE=DATE-TIME:20221214T203422Z
LOCATION:The Trinity Centre
URL:https://archive.trinitybristol.org.uk/events/ebc023-workshop
END:VEVENT
END:VCALENDAR
