BEGIN:VCALENDAR
VERSION:2.0
PRODID:-//Plone.org//NONSGML plone.app.event//EN
X-WR-TIMEZONE:Europe/London
BEGIN:VEVENT
SUMMARY:I am not who you think I am
DTSTART;VALUE=DATE-TIME:20190613T103000Z
DTEND;VALUE=DATE-TIME:20190613T123000Z
DTSTAMP;VALUE=DATE-TIME:20260421T092109Z
UID:6dc56258c66849a79a10e23ff2110e45@localhost:5004
CATEGORIES:whats-on,trinity-events-archive,2019,
CONTACT:Joanna Cross\, jecross19@yahoo.co.uk\, https://www.newwaveageing.c
 om/  
CREATED;VALUE=DATE-TIME:20221214T201251Z
DESCRIPTION:A free workshop taking a life course approach to ageing\, iden
 tity\, diversity and discrimination.
LAST-MODIFIED;VALUE=DATE-TIME:20221214T201252Z
LOCATION:The Trinity Centre
URL:https://archive.trinitybristol.org.uk/events/i-am-not-who-you-think-i-
 am
END:VEVENT
END:VCALENDAR
