BEGIN:VCALENDAR
VERSION:2.0
PRODID:-//Plone.org//NONSGML plone.app.event//EN
X-WR-TIMEZONE:Europe/London
BEGIN:VEVENT
SUMMARY:Unsung Heroes - Give Thankz Celebration
DTSTART;VALUE=DATE-TIME:20211031T140000Z
DTEND;VALUE=DATE-TIME:20211031T180000Z
DTSTAMP;VALUE=DATE-TIME:20260421T013416Z
UID:eb7c2b595bc649e7897fa0e67dc40061@localhost:5004
CATEGORIES:whats-on,2021,
CONTACT:Stefan\, 0117 935 1200\, stefan@trinitybristol.org.uk
CREATED;VALUE=DATE-TIME:20221214T200542Z
DESCRIPTION:Celebrating the unsung heroes of Bristol
LAST-MODIFIED;VALUE=DATE-TIME:20221214T200542Z
LOCATION:The Trinity Centre
URL:https://archive.trinitybristol.org.uk/events/unsung-heroes-give-thankz
 -celebration
END:VEVENT
END:VCALENDAR
